BEGIN:VCALENDAR
VERSION:2.0
PRODID:-//Candi Coated Designs - ECPv6.15.20//NONSGML v1.0//EN
CALSCALE:GREGORIAN
METHOD:PUBLISH
X-WR-CALNAME:Candi Coated Designs
X-ORIGINAL-URL:https://candicoateddesigns.com
X-WR-CALDESC:Events for Candi Coated Designs
REFRESH-INTERVAL;VALUE=DURATION:PT1H
X-Robots-Tag:noindex
X-PUBLISHED-TTL:PT1H
BEGIN:VTIMEZONE
TZID:America/Chicago
BEGIN:DAYLIGHT
TZOFFSETFROM:-0600
TZOFFSETTO:-0500
TZNAME:CDT
DTSTART:20220313T080000
END:DAYLIGHT
BEGIN:STANDARD
TZOFFSETFROM:-0500
TZOFFSETTO:-0600
TZNAME:CST
DTSTART:20221106T070000
END:STANDARD
BEGIN:DAYLIGHT
TZOFFSETFROM:-0600
TZOFFSETTO:-0500
TZNAME:CDT
DTSTART:20230312T080000
END:DAYLIGHT
BEGIN:STANDARD
TZOFFSETFROM:-0500
TZOFFSETTO:-0600
TZNAME:CST
DTSTART:20231105T070000
END:STANDARD
BEGIN:DAYLIGHT
TZOFFSETFROM:-0600
TZOFFSETTO:-0500
TZNAME:CDT
DTSTART:20240310T080000
END:DAYLIGHT
BEGIN:STANDARD
TZOFFSETFROM:-0500
TZOFFSETTO:-0600
TZNAME:CST
DTSTART:20241103T070000
END:STANDARD
END:VTIMEZONE
BEGIN:VEVENT
DTSTART;TZID=America/Chicago:20230207T183000
DTEND;TZID=America/Chicago:20230207T203000
DTSTAMP:20260425T072443
CREATED:20230131T182744Z
LAST-MODIFIED:20230131T182755Z
UID:2232-1675794600-1675801800@candicoateddesigns.com
SUMMARY:Yarn Crafters Night
DESCRIPTION:A peaceful way to learn crochet.  Join myself and some friends to learn and craft with yarn.  Meet us at The Zen Loft in downtown Aurora\, IL.
URL:https://candicoateddesigns.com/event/yarn-crafters-night-duplicate-1/
LOCATION:Zen Loft Wellness Center\, 6 W. Downer Place\, Aurora\, IL\, 60506\, United States
ORGANIZER;CN="Candi Rakow":MAILTO:gamerqueen74@gmail.com
END:VEVENT
BEGIN:VEVENT
DTSTART;TZID=America/Chicago:20230217T150000
DTEND;TZID=America/Chicago:20230219T170000
DTSTAMP:20260425T072443
CREATED:20221130T195202Z
LAST-MODIFIED:20230125T190304Z
UID:2080-1676646000-1676826000@candicoateddesigns.com
SUMMARY:Polar Vortex
DESCRIPTION:Come play with us at Polar Vortex again this year!  There are Vendors\, Artists\, and Games O’ My!  Plus Painting\, Play to Win\, Silent Auction and much much more! So much fun to be had! \nFebruary 17-19\,  2023
URL:https://candicoateddesigns.com/event/polar-vortex/
LOCATION:IL
END:VEVENT
BEGIN:VEVENT
DTSTART;TZID=America/Chicago:20230221T183000
DTEND;TZID=America/Chicago:20230221T203000
DTSTAMP:20260425T072443
CREATED:20230131T183854Z
LAST-MODIFIED:20230131T183854Z
UID:2234-1677004200-1677011400@candicoateddesigns.com
SUMMARY:Yarn Crafters Night
DESCRIPTION:A peaceful way to learn crochet.  Join myself and some friends to learn and craft with yarn.  Meet us at The Zen Loft in downtown Aurora\, IL.
URL:https://candicoateddesigns.com/event/yarn-crafters-night-duplicate-1-3/
LOCATION:Zen Loft Wellness Center\, 6 W. Downer Place\, Aurora\, IL\, 60506\, United States
ORGANIZER;CN="Candi Rakow":MAILTO:gamerqueen74@gmail.com
END:VEVENT
BEGIN:VEVENT
DTSTART;TZID=America/Chicago:20230228T183000
DTEND;TZID=America/Chicago:20230228T203000
DTSTAMP:20260425T072443
CREATED:20230131T184109Z
LAST-MODIFIED:20230131T184109Z
UID:2235-1677609000-1677616200@candicoateddesigns.com
SUMMARY:Yarn Crafters Night
DESCRIPTION:A peaceful way to learn crochet.  Join myself and some friends to learn and craft with yarn.  Meet us at The Zen Loft in downtown Aurora\, IL.
URL:https://candicoateddesigns.com/event/yarn-crafters-night-duplicate-1-4/
LOCATION:Zen Loft Wellness Center\, 6 W. Downer Place\, Aurora\, IL\, 60506\, United States
ORGANIZER;CN="Candi Rakow":MAILTO:gamerqueen74@gmail.com
END:VEVENT
END:VCALENDAR