BEGIN:VCALENDAR
VERSION:2.0
PRODID:-//Candi Coated Designs - ECPv6.15.20//NONSGML v1.0//EN
CALSCALE:GREGORIAN
METHOD:PUBLISH
X-WR-CALNAME:Candi Coated Designs
X-ORIGINAL-URL:https://candicoateddesigns.com
X-WR-CALDESC:Events for Candi Coated Designs
REFRESH-INTERVAL;VALUE=DURATION:PT1H
X-Robots-Tag:noindex
X-PUBLISHED-TTL:PT1H
BEGIN:VTIMEZONE
TZID:America/Chicago
BEGIN:DAYLIGHT
TZOFFSETFROM:-0600
TZOFFSETTO:-0500
TZNAME:CDT
DTSTART:20210314T080000
END:DAYLIGHT
BEGIN:STANDARD
TZOFFSETFROM:-0500
TZOFFSETTO:-0600
TZNAME:CST
DTSTART:20211107T070000
END:STANDARD
BEGIN:DAYLIGHT
TZOFFSETFROM:-0600
TZOFFSETTO:-0500
TZNAME:CDT
DTSTART:20220313T080000
END:DAYLIGHT
BEGIN:STANDARD
TZOFFSETFROM:-0500
TZOFFSETTO:-0600
TZNAME:CST
DTSTART:20221106T070000
END:STANDARD
BEGIN:DAYLIGHT
TZOFFSETFROM:-0600
TZOFFSETTO:-0500
TZNAME:CDT
DTSTART:20230312T080000
END:DAYLIGHT
BEGIN:STANDARD
TZOFFSETFROM:-0500
TZOFFSETTO:-0600
TZNAME:CST
DTSTART:20231105T070000
END:STANDARD
END:VTIMEZONE
BEGIN:VEVENT
DTSTART;TZID=America/Chicago:20221027T183000
DTEND;TZID=America/Chicago:20221027T203000
DTSTAMP:20260425T221830
CREATED:20220917T175112Z
LAST-MODIFIED:20220917T175112Z
UID:2063-1666895400-1666902600@candicoateddesigns.com
SUMMARY:Crochet Group
DESCRIPTION:Join us for crochet and friendship
URL:https://candicoateddesigns.com/event/crochet-group-5/
LOCATION:Zen Loft Wellness Center\, 6 W. Downer Place\, Aurora\, IL\, 60506\, United States
ORGANIZER;CN="Candi Rakow":MAILTO:gamerqueen74@gmail.com
END:VEVENT
BEGIN:VEVENT
DTSTART;TZID=America/Chicago:20221020T183000
DTEND;TZID=America/Chicago:20221020T203000
DTSTAMP:20260425T221830
CREATED:20220917T174729Z
LAST-MODIFIED:20220917T174729Z
UID:2061-1666290600-1666297800@candicoateddesigns.com
SUMMARY:Crochet Group
DESCRIPTION:Join us for crochet and friendship
URL:https://candicoateddesigns.com/event/crochet-group-4/
LOCATION:Zen Loft Wellness Center\, 6 W. Downer Place\, Aurora\, IL\, 60506\, United States
ORGANIZER;CN="Candi Rakow":MAILTO:gamerqueen74@gmail.com
END:VEVENT
BEGIN:VEVENT
DTSTART;TZID=America/Chicago:20221013T183000
DTEND;TZID=America/Chicago:20221013T203000
DTSTAMP:20260425T221830
CREATED:20220916T214221Z
LAST-MODIFIED:20220916T214221Z
UID:2054-1665685800-1665693000@candicoateddesigns.com
SUMMARY:Crochet Group
DESCRIPTION:Join us for crochet and friendship
URL:https://candicoateddesigns.com/event/crochet-group-3/
LOCATION:Zen Loft Wellness Center\, 6 W. Downer Place\, Aurora\, IL\, 60506\, United States
ORGANIZER;CN="Candi Rakow":MAILTO:gamerqueen74@gmail.com
END:VEVENT
BEGIN:VEVENT
DTSTART;TZID=America/Chicago:20221006T183000
DTEND;TZID=America/Chicago:20221006T203000
DTSTAMP:20260425T221830
CREATED:20220916T213627Z
LAST-MODIFIED:20220916T213627Z
UID:2052-1665081000-1665088200@candicoateddesigns.com
SUMMARY:Crochet Group
DESCRIPTION:Join us for crochet and friendship
URL:https://candicoateddesigns.com/event/crochet-group-2/
LOCATION:Zen Loft Wellness Center\, 6 W. Downer Place\, Aurora\, IL\, 60506\, United States
ORGANIZER;CN="Candi Rakow":MAILTO:gamerqueen74@gmail.com
END:VEVENT
BEGIN:VEVENT
DTSTART;TZID=America/Chicago:20220929T080000
DTEND;TZID=America/Chicago:20220929T170000
DTSTAMP:20260425T221830
CREATED:20220916T213416Z
LAST-MODIFIED:20220916T213416Z
UID:2050-1664438400-1664470800@candicoateddesigns.com
SUMMARY:Crochet Group
DESCRIPTION:Join us for crochet and friendship \n 
URL:https://candicoateddesigns.com/event/crochet-group/
LOCATION:Zen Loft Wellness Center\, 6 W. Downer Place\, Aurora\, IL\, 60506\, United States
CATEGORIES:Crochet
ORGANIZER;CN="Candi Rakow":MAILTO:gamerqueen74@gmail.com
END:VEVENT
BEGIN:VEVENT
DTSTART;TZID=America/Chicago:20220922T183000
DTEND;TZID=America/Chicago:20220922T203000
DTSTAMP:20260425T221830
CREATED:20220916T203446Z
LAST-MODIFIED:20220916T211257Z
UID:2047-1663871400-1663878600@candicoateddesigns.com
SUMMARY:Crochet Class
DESCRIPTION:
URL:https://candicoateddesigns.com/event/crochet-class-5/
LOCATION:Zen Loft Wellness Center\, 6 W. Downer Place\, Aurora\, IL\, 60506\, United States
ORGANIZER;CN="Candi Rakow":MAILTO:gamerqueen74@gmail.com
END:VEVENT
BEGIN:VEVENT
DTSTART;TZID=America/Chicago:20220901T183000
DTEND;TZID=America/Chicago:20220901T203000
DTSTAMP:20260425T221830
CREATED:20220815T030254Z
LAST-MODIFIED:20220815T030330Z
UID:2026-1662057000-1662064200@candicoateddesigns.com
SUMMARY:Crochet Class
DESCRIPTION:Join me Thursday to learn how to crochet! \nTickets are $15 and are limited to 15 seats. \n 
URL:https://candicoateddesigns.com/event/crochet-class-4/
LOCATION:Zen Loft Wellness Center\, 6 W. Downer Place\, Aurora\, IL\, 60506\, United States
CATEGORIES:Crochet
ORGANIZER;CN="Candi Rakow":MAILTO:gamerqueen74@gmail.com
END:VEVENT
BEGIN:VEVENT
DTSTART;TZID=America/Chicago:20220825T183000
DTEND;TZID=America/Chicago:20220825T203000
DTSTAMP:20260425T221830
CREATED:20220809T070950Z
LAST-MODIFIED:20220815T031616Z
UID:2021-1661452200-1661459400@candicoateddesigns.com
SUMMARY:Crochet Class
DESCRIPTION:Join me Thursday to learn how to crochet! \nTickets are $15 and are limited to 15 seats. \n 
URL:https://candicoateddesigns.com/event/crochet-class-3/
LOCATION:Zen Loft Wellness Center\, 6 W. Downer Place\, Aurora\, IL\, 60506\, United States
CATEGORIES:Crochet
ORGANIZER;CN="Candi Rakow":MAILTO:gamerqueen74@gmail.com
END:VEVENT
BEGIN:VEVENT
DTSTART;TZID=America/Chicago:20220818T183000
DTEND;TZID=America/Chicago:20220818T203000
DTSTAMP:20260425T221830
CREATED:20220809T070834Z
LAST-MODIFIED:20220815T032430Z
UID:2020-1660847400-1660854600@candicoateddesigns.com
SUMMARY:Crochet Class
DESCRIPTION:Join me Thursday to learn how to crochet! \nTickets are $15 and are limited to 15 seats. \n 
URL:https://candicoateddesigns.com/event/crochet-class-2/
LOCATION:Zen Loft Wellness Center\, 6 W. Downer Place\, Aurora\, IL\, 60506\, United States
CATEGORIES:Crochet
ORGANIZER;CN="Candi Rakow":MAILTO:gamerqueen74@gmail.com
END:VEVENT
BEGIN:VEVENT
DTSTART;TZID=America/Chicago:20220811T183000
DTEND;TZID=America/Chicago:20220811T203000
DTSTAMP:20260425T221830
CREATED:20220809T064421Z
LAST-MODIFIED:20220809T110006Z
UID:2013-1660242600-1660249800@candicoateddesigns.com
SUMMARY:Crochet Class
DESCRIPTION:Join me Thursday to learn how to crochet! \nTickets are $15 and are limited to 15 seats. \nTickets can be purchased using Paypal for $15.\nPlease send payments to gamerqueen74 (at) gmail.com
URL:https://candicoateddesigns.com/event/crochet-class/
LOCATION:Zen Loft Wellness Center\, 6 W. Downer Place\, Aurora\, IL\, 60506\, United States
CATEGORIES:Crochet
ORGANIZER;CN="Candi Rakow":MAILTO:gamerqueen74@gmail.com
END:VEVENT
END:VCALENDAR